BEGIN:VCALENDAR
VERSION:2.0
PRODID:-//RiverStone - ECPv6.15.0//NONSGML v1.0//EN
CALSCALE:GREGORIAN
METHOD:PUBLISH
X-ORIGINAL-URL:https://riverstonepremier.com
X-WR-CALDESC:Events for RiverStone
REFRESH-INTERVAL;VALUE=DURATION:PT1H
X-Robots-Tag:noindex
X-PUBLISHED-TTL:PT1H
BEGIN:VTIMEZONE
TZID:UTC
BEGIN:STANDARD
TZOFFSETFROM:+0000
TZOFFSETTO:+0000
TZNAME:UTC
DTSTART:20260101T000000
END:STANDARD
END:VTIMEZONE
BEGIN:VEVENT
DTSTART;VALUE=DATE:20260313
DTEND;VALUE=DATE:20260314
DTSTAMP:20260420T111030
CREATED:20260115T143345Z
LAST-MODIFIED:20260130T184321Z
UID:807-1773360000-1773446399@riverstonepremier.com
SUMMARY:Wedding Tasting
DESCRIPTION:This date is reserved for a private wedding tasting at RiverStone Premier. Event details are not public.
URL:https://riverstonepremier.com/event/wedding-tasting-march1326/
LOCATION:RiverStone Premier\, 1905 Central Coast Ln\, Fort Atkinson\, WI\, 53538\, United States
CATEGORIES:Wedding Tasting
ATTACH;FMTTYPE=image/jpeg:https://riverstonepremier.com/wp-content/uploads/2025/08/our-property-5.jpg
ORGANIZER;CN="RiverStone Premier":MAILTO:info@riverstonepremier.com
END:VEVENT
END:VCALENDAR