BEGIN:VCALENDAR
VERSION:2.0
PRODID:-//RiverStone - ECPv6.15.0//NONSGML v1.0//EN
CALSCALE:GREGORIAN
METHOD:PUBLISH
X-WR-CALNAME:RiverStone
X-ORIGINAL-URL:https://riverstonepremier.com
X-WR-CALDESC:Events for RiverStone
REFRESH-INTERVAL;VALUE=DURATION:PT1H
X-Robots-Tag:noindex
X-PUBLISHED-TTL:PT1H
BEGIN:VTIMEZONE
TZID:UTC
BEGIN:STANDARD
TZOFFSETFROM:+0000
TZOFFSETTO:+0000
TZNAME:UTC
DTSTART:20260101T000000
END:STANDARD
END:VTIMEZONE
BEGIN:VEVENT
DTSTART;VALUE=DATE:20260502
DTEND;VALUE=DATE:20260503
DTSTAMP:20260420T112807
CREATED:20260115T142658Z
LAST-MODIFIED:20260130T184053Z
UID:804-1777680000-1777766399@riverstonepremier.com
SUMMARY:Private Event
DESCRIPTION:This date is reserved for a private event at RiverStone Premier. Event details are not public.
URL:https://riverstonepremier.com/event/private-event-may226/
LOCATION:RiverStone Premier\, 1905 Central Coast Ln\, Fort Atkinson\, WI\, 53538\, United States
CATEGORIES:Private Event
ATTACH;FMTTYPE=image/jpeg:https://riverstonepremier.com/wp-content/uploads/2025/08/our-property-5.jpg
ORGANIZER;CN="RiverStone Premier":MAILTO:info@riverstonepremier.com
END:VEVENT
BEGIN:VEVENT
DTSTART;VALUE=DATE:20260507
DTEND;VALUE=DATE:20260508
DTSTAMP:20260420T112807
CREATED:20260115T141455Z
LAST-MODIFIED:20260130T184028Z
UID:798-1778112000-1778198399@riverstonepremier.com
SUMMARY:Private Event
DESCRIPTION:This date is reserved for a private event at RiverStone Premier. Event details are not public.
URL:https://riverstonepremier.com/event/private-event-may726/
LOCATION:RiverStone Premier\, 1905 Central Coast Ln\, Fort Atkinson\, WI\, 53538\, United States
CATEGORIES:Private Event
ATTACH;FMTTYPE=image/jpeg:https://riverstonepremier.com/wp-content/uploads/2025/08/our-property-5.jpg
ORGANIZER;CN="RiverStone Premier":MAILTO:info@riverstonepremier.com
END:VEVENT
END:VCALENDAR