BEGIN:VCALENDAR
VERSION:2.0
PRODID:-//RiverStone - ECPv6.15.0//NONSGML v1.0//EN
CALSCALE:GREGORIAN
METHOD:PUBLISH
X-WR-CALNAME:RiverStone
X-ORIGINAL-URL:https://riverstonepremier.com
X-WR-CALDESC:Events for RiverStone
REFRESH-INTERVAL;VALUE=DURATION:PT1H
X-Robots-Tag:noindex
X-PUBLISHED-TTL:PT1H
BEGIN:VTIMEZONE
TZID:UTC
BEGIN:STANDARD
TZOFFSETFROM:+0000
TZOFFSETTO:+0000
TZNAME:UTC
DTSTART:20250101T000000
END:STANDARD
END:VTIMEZONE
BEGIN:VEVENT
DTSTART;VALUE=DATE:20251025
DTEND;VALUE=DATE:20251026
DTSTAMP:20260420T113645
CREATED:20250310T141131Z
LAST-MODIFIED:20260130T184836Z
UID:615-1761350400-1761436799@riverstonepremier.com
SUMMARY:Wedding
DESCRIPTION:This date is reserved for a private wedding at RiverStone Premier in Fort Atkinson\, Wisconsin. Event details are not public.
URL:https://riverstonepremier.com/event/wedding-oct2525/
LOCATION:RiverStone Premier\, 1905 Central Coast Ln\, Fort Atkinson\, WI\, 53538\, United States
CATEGORIES:Wedding
ATTACH;FMTTYPE=image/jpeg:https://riverstonepremier.com/wp-content/uploads/2025/08/our-property-5.jpg
ORGANIZER;CN="RiverStone Premier":MAILTO:info@riverstonepremier.com
END:VEVENT
BEGIN:VEVENT
DTSTART;VALUE=DATE:20251101
DTEND;VALUE=DATE:20251102
DTSTAMP:20260420T113645
CREATED:20241112T095723Z
LAST-MODIFIED:20260130T184820Z
UID:577-1761955200-1762041599@riverstonepremier.com
SUMMARY:Wedding
DESCRIPTION:This date is reserved for a private wedding at RiverStone Premier in Fort Atkinson\, Wisconsin. Event details are not public. \n 
URL:https://riverstonepremier.com/event/wedding-nov125/
LOCATION:RiverStone Premier\, 1905 Central Coast Ln\, Fort Atkinson\, WI\, 53538\, United States
CATEGORIES:Wedding
ATTACH;FMTTYPE=image/jpeg:https://riverstonepremier.com/wp-content/uploads/2025/08/our-property-5.jpg
ORGANIZER;CN="RiverStone Premier":MAILTO:info@riverstonepremier.com
END:VEVENT
BEGIN:VEVENT
DTSTART;VALUE=DATE:20251107
DTEND;VALUE=DATE:20251108
DTSTAMP:20260420T113645
CREATED:20250417T173858Z
LAST-MODIFIED:20260130T184812Z
UID:630-1762473600-1762559999@riverstonepremier.com
SUMMARY:Wedding
DESCRIPTION:This date is reserved for a private wedding at RiverStone Premier in Fort Atkinson\, Wisconsin. Event details are not public.
URL:https://riverstonepremier.com/event/wedding-nov725/
LOCATION:RiverStone Premier\, 1905 Central Coast Ln\, Fort Atkinson\, WI\, 53538\, United States
CATEGORIES:Wedding
ATTACH;FMTTYPE=image/jpeg:https://riverstonepremier.com/wp-content/uploads/2025/08/our-property-5.jpg
ORGANIZER;CN="RiverStone Premier":MAILTO:info@riverstonepremier.com
END:VEVENT
BEGIN:VEVENT
DTSTART;VALUE=DATE:20251108
DTEND;VALUE=DATE:20251109
DTSTAMP:20260420T113645
CREATED:20241112T095723Z
LAST-MODIFIED:20260130T184747Z
UID:578-1762560000-1762646399@riverstonepremier.com
SUMMARY:Wedding
DESCRIPTION:This date is reserved for a private wedding at RiverStone Premier in Fort Atkinson\, Wisconsin. Event details are not public. \n 
URL:https://riverstonepremier.com/event/wedding-nov825/
LOCATION:RiverStone Premier\, 1905 Central Coast Ln\, Fort Atkinson\, WI\, 53538\, United States
CATEGORIES:Wedding
ATTACH;FMTTYPE=image/jpeg:https://riverstonepremier.com/wp-content/uploads/2025/08/our-property-5.jpg
ORGANIZER;CN="RiverStone Premier":MAILTO:info@riverstonepremier.com
END:VEVENT
BEGIN:VEVENT
DTSTART;VALUE=DATE:20251114
DTEND;VALUE=DATE:20251115
DTSTAMP:20260420T113645
CREATED:20250826T201105Z
LAST-MODIFIED:20260130T184734Z
UID:756-1763078400-1763164799@riverstonepremier.com
SUMMARY:Private Event
DESCRIPTION:This date is reserved for a private event at RiverStone Premier. Event details are not public.
URL:https://riverstonepremier.com/event/private-event-nov1425/
LOCATION:RiverStone Premier\, 1905 Central Coast Ln\, Fort Atkinson\, WI\, 53538\, United States
CATEGORIES:Private Event
ATTACH;FMTTYPE=image/jpeg:https://riverstonepremier.com/wp-content/uploads/2025/08/our-property-5.jpg
ORGANIZER;CN="RiverStone Premier":MAILTO:info@riverstonepremier.com
END:VEVENT
BEGIN:VEVENT
DTSTART;VALUE=DATE:20251115
DTEND;VALUE=DATE:20251116
DTSTAMP:20260420T113645
CREATED:20250417T173217Z
LAST-MODIFIED:20260130T184658Z
UID:622-1763164800-1763251199@riverstonepremier.com
SUMMARY:Wedding
DESCRIPTION:This date is reserved for a private wedding at RiverStone Premier. Event details are not public.
URL:https://riverstonepremier.com/event/wedding-45/
LOCATION:RiverStone Premier\, 1905 Central Coast Ln\, Fort Atkinson\, WI\, 53538\, United States
CATEGORIES:Wedding
ATTACH;FMTTYPE=image/jpeg:https://riverstonepremier.com/wp-content/uploads/2025/08/our-property-5.jpg
ORGANIZER;CN="RiverStone Premier":MAILTO:info@riverstonepremier.com
END:VEVENT
BEGIN:VEVENT
DTSTART;VALUE=DATE:20251121
DTEND;VALUE=DATE:20251122
DTSTAMP:20260420T113645
CREATED:20250813T155138Z
LAST-MODIFIED:20260130T184641Z
UID:684-1763683200-1763769599@riverstonepremier.com
SUMMARY:Private Event
DESCRIPTION:This date is reserved for a private event at RiverStone Premier. Event details are not public.
URL:https://riverstonepremier.com/event/private-event-nov2125/
LOCATION:RiverStone Premier\, 1905 Central Coast Ln\, Fort Atkinson\, WI\, 53538\, United States
CATEGORIES:Private Event
ATTACH;FMTTYPE=image/jpeg:https://riverstonepremier.com/wp-content/uploads/2025/08/our-property-5.jpg
ORGANIZER;CN="RiverStone Premier":MAILTO:info@riverstonepremier.com
END:VEVENT
BEGIN:VEVENT
DTSTART;VALUE=DATE:20251122
DTEND;VALUE=DATE:20251123
DTSTAMP:20260420T113645
CREATED:20250417T173958Z
LAST-MODIFIED:20260130T184624Z
UID:632-1763769600-1763855999@riverstonepremier.com
SUMMARY:Private Event
DESCRIPTION:This date is reserved for a private event at RiverStone Premier. Event details are not public.
URL:https://riverstonepremier.com/event/private-event-nov2225/
LOCATION:RiverStone Premier\, 1905 Central Coast Ln\, Fort Atkinson\, WI\, 53538\, United States
CATEGORIES:Private Event
ATTACH;FMTTYPE=image/jpeg:https://riverstonepremier.com/wp-content/uploads/2025/08/our-property-5.jpg
ORGANIZER;CN="RiverStone Premier":MAILTO:info@riverstonepremier.com
END:VEVENT
BEGIN:VEVENT
DTSTART;VALUE=DATE:20251201
DTEND;VALUE=DATE:20251202
DTSTAMP:20260420T113645
CREATED:20251024T224002Z
LAST-MODIFIED:20260130T184608Z
UID:777-1764547200-1764633599@riverstonepremier.com
SUMMARY:Private Event
DESCRIPTION:This date is reserved for a private event at RiverStone Premier. Event details are not public.
URL:https://riverstonepremier.com/event/private-event-dec125/
LOCATION:RiverStone Premier\, 1905 Central Coast Ln\, Fort Atkinson\, WI\, 53538\, United States
CATEGORIES:Private Event
ATTACH;FMTTYPE=image/jpeg:https://riverstonepremier.com/wp-content/uploads/2025/08/our-property-5.jpg
ORGANIZER;CN="RiverStone Premier":MAILTO:info@riverstonepremier.com
END:VEVENT
BEGIN:VEVENT
DTSTART;VALUE=DATE:20251203
DTEND;VALUE=DATE:20251204
DTSTAMP:20260420T113645
CREATED:20251024T224029Z
LAST-MODIFIED:20260130T184546Z
UID:778-1764720000-1764806399@riverstonepremier.com
SUMMARY:Private Event
DESCRIPTION:This date is reserved for a private event at RiverStone Premier. Event details are not public.
URL:https://riverstonepremier.com/event/private-event-dec325/
LOCATION:RiverStone Premier\, 1905 Central Coast Ln\, Fort Atkinson\, WI\, 53538\, United States
CATEGORIES:Private Event
ATTACH;FMTTYPE=image/jpeg:https://riverstonepremier.com/wp-content/uploads/2025/08/our-property-5.jpg
ORGANIZER;CN="RiverStone Premier":MAILTO:info@riverstonepremier.com
END:VEVENT
BEGIN:VEVENT
DTSTART;VALUE=DATE:20251212
DTEND;VALUE=DATE:20251213
DTSTAMP:20260420T113645
CREATED:20251021T184446Z
LAST-MODIFIED:20260130T184527Z
UID:772-1765497600-1765583999@riverstonepremier.com
SUMMARY:Private Event
DESCRIPTION:This date is reserved for a private event at RiverStone Premier. Event details are not public.
URL:https://riverstonepremier.com/event/private-event-dec225/
LOCATION:RiverStone Premier\, 1905 Central Coast Ln\, Fort Atkinson\, WI\, 53538\, United States
CATEGORIES:Private Event
ATTACH;FMTTYPE=image/jpeg:https://riverstonepremier.com/wp-content/uploads/2025/08/our-property-5.jpg
ORGANIZER;CN="RiverStone Premier":MAILTO:info@riverstonepremier.com
END:VEVENT
BEGIN:VEVENT
DTSTART;VALUE=DATE:20251213
DTEND;VALUE=DATE:20251214
DTSTAMP:20260420T113645
CREATED:20250417T174029Z
LAST-MODIFIED:20260130T184506Z
UID:633-1765584000-1765670399@riverstonepremier.com
SUMMARY:Private Event
DESCRIPTION:This date is reserved for a private event at RiverStone Premier. Event details are not public.
URL:https://riverstonepremier.com/event/private-event-dec1325/
LOCATION:RiverStone Premier\, 1905 Central Coast Ln\, Fort Atkinson\, WI\, 53538\, United States
CATEGORIES:Private Event
ATTACH;FMTTYPE=image/jpeg:https://riverstonepremier.com/wp-content/uploads/2025/08/our-property-5.jpg
ORGANIZER;CN="RiverStone Premier":MAILTO:info@riverstonepremier.com
END:VEVENT
BEGIN:VEVENT
DTSTART;VALUE=DATE:20251219
DTEND;VALUE=DATE:20251220
DTSTAMP:20260420T113645
CREATED:20251210T161905Z
LAST-MODIFIED:20260130T184449Z
UID:786-1766102400-1766188799@riverstonepremier.com
SUMMARY:Private Event
DESCRIPTION:This date is reserved for a private event at RiverStone Premier. Event details are not public.
URL:https://riverstonepremier.com/event/private-event-dec-1925/
LOCATION:RiverStone Premier\, 1905 Central Coast Ln\, Fort Atkinson\, WI\, 53538\, United States
CATEGORIES:Private Event
ATTACH;FMTTYPE=image/jpeg:https://riverstonepremier.com/wp-content/uploads/2025/08/our-property-5.jpg
ORGANIZER;CN="RiverStone Premier":MAILTO:info@riverstonepremier.com
END:VEVENT
BEGIN:VEVENT
DTSTART;VALUE=DATE:20251220
DTEND;VALUE=DATE:20251221
DTSTAMP:20260420T113645
CREATED:20250710T135636Z
LAST-MODIFIED:20260130T184427Z
UID:666-1766188800-1766275199@riverstonepremier.com
SUMMARY:Wedding
DESCRIPTION:This date is reserved for a private wedding at RiverStone Premier. Event details are not public.
URL:https://riverstonepremier.com/event/wedding-dec2025/
LOCATION:RiverStone Premier\, 1905 Central Coast Ln\, Fort Atkinson\, WI\, 53538\, United States
CATEGORIES:Wedding
ATTACH;FMTTYPE=image/jpeg:https://riverstonepremier.com/wp-content/uploads/2025/08/our-property-5.jpg
ORGANIZER;CN="RiverStone Premier":MAILTO:info@riverstonepremier.com
END:VEVENT
BEGIN:VEVENT
DTSTART;VALUE=DATE:20260213
DTEND;VALUE=DATE:20260214
DTSTAMP:20260420T113645
CREATED:20260115T143130Z
LAST-MODIFIED:20260130T184409Z
UID:806-1770940800-1771027199@riverstonepremier.com
SUMMARY:Wedding Tasting
DESCRIPTION:This date is reserved for a private wedding tasting at RiverStone Premier. Event details are not public.
URL:https://riverstonepremier.com/event/wedding-tasting-feb1326/
LOCATION:RiverStone Premier\, 1905 Central Coast Ln\, Fort Atkinson\, WI\, 53538\, United States
CATEGORIES:Wedding Tasting
ATTACH;FMTTYPE=image/jpeg:https://riverstonepremier.com/wp-content/uploads/2025/08/our-property-5.jpg
ORGANIZER;CN="RiverStone Premier":MAILTO:info@riverstonepremier.com
END:VEVENT
BEGIN:VEVENT
DTSTART;VALUE=DATE:20260214
DTEND;VALUE=DATE:20260215
DTSTAMP:20260420T113645
CREATED:20241112T095723Z
LAST-MODIFIED:20260130T184347Z
UID:579-1771027200-1771113599@riverstonepremier.com
SUMMARY:Wedding
DESCRIPTION:This date is reserved for a private wedding at RiverStone Premier. Event details are not public. \n 
URL:https://riverstonepremier.com/event/wedding-feb1426/
LOCATION:RiverStone Premier\, 1905 Central Coast Ln\, Fort Atkinson\, WI\, 53538\, United States
CATEGORIES:Wedding
ATTACH;FMTTYPE=image/jpeg:https://riverstonepremier.com/wp-content/uploads/2025/08/our-property-5.jpg
ORGANIZER;CN="RiverStone Premier":MAILTO:info@riverstonepremier.com
END:VEVENT
BEGIN:VEVENT
DTSTART;VALUE=DATE:20260313
DTEND;VALUE=DATE:20260314
DTSTAMP:20260420T113645
CREATED:20260115T143345Z
LAST-MODIFIED:20260130T184321Z
UID:807-1773360000-1773446399@riverstonepremier.com
SUMMARY:Wedding Tasting
DESCRIPTION:This date is reserved for a private wedding tasting at RiverStone Premier. Event details are not public.
URL:https://riverstonepremier.com/event/wedding-tasting-march1326/
LOCATION:RiverStone Premier\, 1905 Central Coast Ln\, Fort Atkinson\, WI\, 53538\, United States
CATEGORIES:Wedding Tasting
ATTACH;FMTTYPE=image/jpeg:https://riverstonepremier.com/wp-content/uploads/2025/08/our-property-5.jpg
ORGANIZER;CN="RiverStone Premier":MAILTO:info@riverstonepremier.com
END:VEVENT
BEGIN:VEVENT
DTSTART;VALUE=DATE:20260314
DTEND;VALUE=DATE:20260315
DTSTAMP:20260420T113645
CREATED:20241112T095723Z
LAST-MODIFIED:20260130T184300Z
UID:580-1773446400-1773532799@riverstonepremier.com
SUMMARY:Wedding
DESCRIPTION:This date is reserved for a private wedding at RiverStone Premier. Event details are not public.
URL:https://riverstonepremier.com/event/wedding-march1426/
LOCATION:RiverStone Premier\, 1905 Central Coast Ln\, Fort Atkinson\, WI\, 53538\, United States
CATEGORIES:Wedding
ATTACH;FMTTYPE=image/jpeg:https://riverstonepremier.com/wp-content/uploads/2025/08/our-property-5.jpg
ORGANIZER;CN="RiverStone Premier":MAILTO:info@riverstonepremier.com
END:VEVENT
BEGIN:VEVENT
DTSTART;VALUE=DATE:20260321
DTEND;VALUE=DATE:20260322
DTSTAMP:20260420T113645
CREATED:20250303T161656Z
LAST-MODIFIED:20260130T184241Z
UID:613-1774051200-1774137599@riverstonepremier.com
SUMMARY:Wedding
DESCRIPTION:This date is reserved for a private wedding at RiverStone Premier. Event details are not public.
URL:https://riverstonepremier.com/event/wedding-march2126/
LOCATION:RiverStone Premier\, 1905 Central Coast Ln\, Fort Atkinson\, WI\, 53538\, United States
CATEGORIES:Wedding
ATTACH;FMTTYPE=image/jpeg:https://riverstonepremier.com/wp-content/uploads/2025/08/our-property-5.jpg
ORGANIZER;CN="RiverStone Premier":MAILTO:info@riverstonepremier.com
END:VEVENT
BEGIN:VEVENT
DTSTART;VALUE=DATE:20260411
DTEND;VALUE=DATE:20260412
DTSTAMP:20260420T113645
CREATED:20250527T144901Z
LAST-MODIFIED:20260130T184225Z
UID:655-1775865600-1775951999@riverstonepremier.com
SUMMARY:Wedding
DESCRIPTION:This date is reserved for a private wedding at RiverStone Premier. Event details are not public.
URL:https://riverstonepremier.com/event/wedding-april1126/
LOCATION:RiverStone Premier\, 1905 Central Coast Ln\, Fort Atkinson\, WI\, 53538\, United States
CATEGORIES:Wedding
ATTACH;FMTTYPE=image/jpeg:https://riverstonepremier.com/wp-content/uploads/2025/08/our-property-5.jpg
ORGANIZER;CN="RiverStone Premier":MAILTO:info@riverstonepremier.com
END:VEVENT
BEGIN:VEVENT
DTSTART;VALUE=DATE:20260421
DTEND;VALUE=DATE:20260422
DTSTAMP:20260420T113645
CREATED:20251029T004933Z
LAST-MODIFIED:20260130T184154Z
UID:780-1776729600-1776815999@riverstonepremier.com
SUMMARY:Private Event
DESCRIPTION:This date is reserved for a private event at RiverStone Premier. Event details are not public.
URL:https://riverstonepremier.com/event/private-event-april2126/
LOCATION:RiverStone Premier\, 1905 Central Coast Ln\, Fort Atkinson\, WI\, 53538\, United States
CATEGORIES:Private Event
ATTACH;FMTTYPE=image/jpeg:https://riverstonepremier.com/wp-content/uploads/2025/08/our-property-5.jpg
ORGANIZER;CN="RiverStone Premier":MAILTO:info@riverstonepremier.com
END:VEVENT
BEGIN:VEVENT
DTSTART;VALUE=DATE:20260424
DTEND;VALUE=DATE:20260425
DTSTAMP:20260420T113645
CREATED:20250512T135755Z
LAST-MODIFIED:20260130T184149Z
UID:647-1776988800-1777075199@riverstonepremier.com
SUMMARY:Wedding
DESCRIPTION:This date is reserved for a private wedding at RiverStone Premier. Event details are not public.
URL:https://riverstonepremier.com/event/wedding-april2426/
LOCATION:RiverStone Premier\, 1905 Central Coast Ln\, Fort Atkinson\, WI\, 53538\, United States
CATEGORIES:Wedding
ATTACH;FMTTYPE=image/jpeg:https://riverstonepremier.com/wp-content/uploads/2025/08/our-property-5.jpg
ORGANIZER;CN="RiverStone Premier":MAILTO:info@riverstonepremier.com
END:VEVENT
BEGIN:VEVENT
DTSTART;VALUE=DATE:20260425
DTEND;VALUE=DATE:20260426
DTSTAMP:20260420T113645
CREATED:20241112T095723Z
LAST-MODIFIED:20260130T184141Z
UID:582-1777075200-1777161599@riverstonepremier.com
SUMMARY:Wedding
DESCRIPTION:This date is reserved for a private wedding at RiverStone Premier. Event details are not public.
URL:https://riverstonepremier.com/event/wedding-april2526/
LOCATION:RiverStone Premier\, 1905 Central Coast Ln\, Fort Atkinson\, WI\, 53538\, United States
CATEGORIES:Wedding
ATTACH;FMTTYPE=image/jpeg:https://riverstonepremier.com/wp-content/uploads/2025/08/our-property-5.jpg
ORGANIZER;CN="RiverStone Premier":MAILTO:info@riverstonepremier.com
END:VEVENT
BEGIN:VEVENT
DTSTART;VALUE=DATE:20260426
DTEND;VALUE=DATE:20260427
DTSTAMP:20260420T113645
CREATED:20260115T140650Z
LAST-MODIFIED:20260130T184120Z
UID:796-1777161600-1777247999@riverstonepremier.com
SUMMARY:Private Event
DESCRIPTION:This date is reserved for a private event. Event details are not public.
URL:https://riverstonepremier.com/event/private-event-april2626/
LOCATION:RiverStone Premier\, 1905 Central Coast Ln\, Fort Atkinson\, WI\, 53538\, United States
CATEGORIES:Private Event
ATTACH;FMTTYPE=image/jpeg:https://riverstonepremier.com/wp-content/uploads/2025/08/our-property-5.jpg
ORGANIZER;CN="RiverStone Premier":MAILTO:info@riverstonepremier.com
END:VEVENT
BEGIN:VEVENT
DTSTART;VALUE=DATE:20260502
DTEND;VALUE=DATE:20260503
DTSTAMP:20260420T113645
CREATED:20260115T142658Z
LAST-MODIFIED:20260130T184053Z
UID:804-1777680000-1777766399@riverstonepremier.com
SUMMARY:Private Event
DESCRIPTION:This date is reserved for a private event at RiverStone Premier. Event details are not public.
URL:https://riverstonepremier.com/event/private-event-may226/
LOCATION:RiverStone Premier\, 1905 Central Coast Ln\, Fort Atkinson\, WI\, 53538\, United States
CATEGORIES:Private Event
ATTACH;FMTTYPE=image/jpeg:https://riverstonepremier.com/wp-content/uploads/2025/08/our-property-5.jpg
ORGANIZER;CN="RiverStone Premier":MAILTO:info@riverstonepremier.com
END:VEVENT
BEGIN:VEVENT
DTSTART;VALUE=DATE:20260507
DTEND;VALUE=DATE:20260508
DTSTAMP:20260420T113645
CREATED:20260115T141455Z
LAST-MODIFIED:20260130T184028Z
UID:798-1778112000-1778198399@riverstonepremier.com
SUMMARY:Private Event
DESCRIPTION:This date is reserved for a private event at RiverStone Premier. Event details are not public.
URL:https://riverstonepremier.com/event/private-event-may726/
LOCATION:RiverStone Premier\, 1905 Central Coast Ln\, Fort Atkinson\, WI\, 53538\, United States
CATEGORIES:Private Event
ATTACH;FMTTYPE=image/jpeg:https://riverstonepremier.com/wp-content/uploads/2025/08/our-property-5.jpg
ORGANIZER;CN="RiverStone Premier":MAILTO:info@riverstonepremier.com
END:VEVENT
BEGIN:VEVENT
DTSTART;VALUE=DATE:20260529
DTEND;VALUE=DATE:20260530
DTSTAMP:20260420T113645
CREATED:20250512T135717Z
LAST-MODIFIED:20260130T183932Z
UID:646-1780012800-1780099199@riverstonepremier.com
SUMMARY:Wedding
DESCRIPTION:This date is reserved for a private wedding at RiverStone Premier. Event details are not public.
URL:https://riverstonepremier.com/event/wedding-may2926/
LOCATION:RiverStone Premier\, 1905 Central Coast Ln\, Fort Atkinson\, WI\, 53538\, United States
CATEGORIES:Wedding
ATTACH;FMTTYPE=image/jpeg:https://riverstonepremier.com/wp-content/uploads/2025/08/our-property-5.jpg
ORGANIZER;CN="RiverStone Premier":MAILTO:info@riverstonepremier.com
END:VEVENT
BEGIN:VEVENT
DTSTART;VALUE=DATE:20260530
DTEND;VALUE=DATE:20260531
DTSTAMP:20260420T113645
CREATED:20250804T134823Z
LAST-MODIFIED:20260130T183912Z
UID:676-1780099200-1780185599@riverstonepremier.com
SUMMARY:Wedding
DESCRIPTION:This date is reserved for a private wedding at RiverStone Premier. Event details are not public.
URL:https://riverstonepremier.com/event/wedding-may3026/
LOCATION:RiverStone Premier\, 1905 Central Coast Ln\, Fort Atkinson\, WI\, 53538\, United States
CATEGORIES:Wedding
ATTACH;FMTTYPE=image/jpeg:https://riverstonepremier.com/wp-content/uploads/2025/08/our-property-5.jpg
ORGANIZER;CN="RiverStone Premier":MAILTO:info@riverstonepremier.com
END:VEVENT
BEGIN:VEVENT
DTSTART;VALUE=DATE:20260606
DTEND;VALUE=DATE:20260607
DTSTAMP:20260420T113645
CREATED:20250527T144754Z
LAST-MODIFIED:20260130T183842Z
UID:654-1780704000-1780790399@riverstonepremier.com
SUMMARY:Wedding
DESCRIPTION:This date is reserved for a private wedding at RiverStone Premier. Event details are not public.
URL:https://riverstonepremier.com/event/wedding-june626/
LOCATION:RiverStone Premier\, 1905 Central Coast Ln\, Fort Atkinson\, WI\, 53538\, United States
CATEGORIES:Wedding
ATTACH;FMTTYPE=image/jpeg:https://riverstonepremier.com/wp-content/uploads/2025/08/our-property-5.jpg
ORGANIZER;CN="RiverStone Premier":MAILTO:info@riverstonepremier.com
END:VEVENT
BEGIN:VEVENT
DTSTART;VALUE=DATE:20260611
DTEND;VALUE=DATE:20260612
DTSTAMP:20260420T113645
CREATED:20260407T131924Z
LAST-MODIFIED:20260407T131940Z
UID:920-1781136000-1781222399@riverstonepremier.com
SUMMARY:Private Event
DESCRIPTION:This date is reserved for a private event at RiverStone Premier in Fort Atkinson\, Wisconsin. Event details are not public.
URL:https://riverstonepremier.com/event/private-event-june1126/
LOCATION:RiverStone Premier\, 1905 Central Coast Ln\, Fort Atkinson\, WI\, 53538\, United States
CATEGORIES:Private Event
ATTACH;FMTTYPE=image/jpeg:https://riverstonepremier.com/wp-content/uploads/2025/08/our-property-5.jpg
ORGANIZER;CN="RiverStone Premier":MAILTO:info@riverstonepremier.com
END:VEVENT
END:VCALENDAR